BEGIN:VCALENDAR
VERSION:2.0
PRODID:-//美國南加州湖北同鄉會 - ECPv6.15.16//NONSGML v1.0//EN
CALSCALE:GREGORIAN
METHOD:PUBLISH
X-WR-CALNAME:美國南加州湖北同鄉會
X-ORIGINAL-URL:https://hubeiassociation-sca.org
X-WR-CALDESC:美國南加州湖北同鄉會的活动
REFRESH-INTERVAL;VALUE=DURATION:PT1H
X-Robots-Tag:noindex
X-PUBLISHED-TTL:PT1H
BEGIN:VTIMEZONE
TZID:UTC
BEGIN:STANDARD
TZOFFSETFROM:+0000
TZOFFSETTO:+0000
TZNAME:UTC
DTSTART:20180101T000000
END:STANDARD
END:VTIMEZONE
BEGIN:VEVENT
DTSTART;TZID=UTC:20190216T080000
DTEND;TZID=UTC:20190217T170000
DTSTAMP:20260424T194354
CREATED:20240112T082712Z
LAST-MODIFIED:20240112T082718Z
UID:240-1550304000-1550422800@hubeiassociation-sca.org
SUMMARY:美国加州湖北同乡总会主办南加州湖北同乡会协办的“一带一路中国太极文化世界行”圆满收功
DESCRIPTION:由”美中一带一路”总商会和美国加州湖北同乡总会主办，美国鲁迅文化传播协会、美国南加州湖北同乡会、美国南加州湖南同乡会和全球文化教育科技创新产业基金会协办的“一带一路”中国太极文化世界行美洲行洛杉矶授课活动（2月16日和2月17日在洛杉矶举行）圆满结束。 \n此次活动得到了美国加州湖北同乡总会会长喻鹏先生的积极关注和大力支持，并委托北加州湖北同乡会副会长潘俊先生和夫人到场祝贺。 \n中华人民共和国驻旧金山总领馆王东华总领事，中华人民共和国驻美国洛杉矶总领馆张平总领事都发来贺信表示祝贺。 \n2月14日晚在洛杉矶的欢迎晚宴上，中华人民共和国驻洛杉矶总领馆侨务领事陈晓毅，解世波和洛杉矶主要侨团到场欢迎太极大师。 \n加拿大湖北总商会常务副会长杜和平和夫人也前来祝贺。 \n美国南加州湖北同乡会财长李琳，理事黄毅早早的到达会场帮助参与人员签到和安排参加人员。 \n活动现场大家积极参与，大师们耐心指导。 \n美国加州湖北同乡总会执行会长、美国南加州湖北同乡会会长赵林介绍，洛杉矶是美国都会城市中华人人数最多、数量超过百万的城市，中华太极文化在这里有广泛的群众基础。这次来到北美的五位大师是当代中华太极文化优秀的传承者，代表者中国太极界的最高水平，他们这次不辞劳苦、牺牲了与家人团聚、共度佳节的机会为传播中华文化长途奔走、来到美国。我们理当为这次活动的主办贡献我们的力量。 \n赵林还特别介绍到，这是美国加州湖北同乡总会在南加州启动以后主办的第一次大型活动。去年11月，我们将具有三十四年历史的美国南加州湖北同乡会和具有28年历史的美国北加州湖北同乡会进行整合，组建了美国加州湖北同乡总会，上一周刚刚宣布在南加州启动。我们希望在新的、更大的平台上，尽我们所能为广大乡亲做贡献、为中华文化传播做贡献、为中美经贸文化交流做贡献。 \n两天的活动中大家在开心愉快的气氛中圆满收功。南加州湖北同乡会副理事长吴淑意全程参与活动，同时也表示，她为中医师，太极运动有利于身心健康，对全民养生保健也有积极的作用。大师们高超水平诠释了中华太极的博大精深，纠正民间对太极文化的浅薄认知，对中华太极文化做了一次积极的有益的推广。 \n这次活动南加州湖北同乡会理事们积极筹备和参与，体现了团队合作精神。未来美国南加州湖北同乡会会将积极配合美国加州湖北同乡总会的各项工作，更多的服务与南加州的湖北乡亲。
URL:https://hubeiassociation-sca.org/event/%e7%be%8e%e5%9b%bd%e5%8a%a0%e5%b7%9e%e6%b9%96%e5%8c%97%e5%90%8c%e4%b9%a1%e6%80%bb%e4%bc%9a%e4%b8%bb%e5%8a%9e%e5%8d%97%e5%8a%a0%e5%b7%9e%e6%b9%96%e5%8c%97%e5%90%8c%e4%b9%a1%e4%bc%9a%e5%8d%8f%e5%8a%9e/
CATEGORIES:活动
ATTACH;FMTTYPE=image/jpeg:https://hubeiassociation-sca.org/wp-content/uploads/2024/01/1-16.jpg
END:VEVENT
END:VCALENDAR