BEGIN:VCALENDAR
VERSION:2.0
PRODID:-//美國南加州湖北同鄉會 - ECPv6.15.16//NONSGML v1.0//EN
CALSCALE:GREGORIAN
METHOD:PUBLISH
X-ORIGINAL-URL:https://hubeiassociation-sca.org
X-WR-CALDESC:美國南加州湖北同鄉會的活动
REFRESH-INTERVAL;VALUE=DURATION:PT1H
X-Robots-Tag:noindex
X-PUBLISHED-TTL:PT1H
BEGIN:VTIMEZONE
TZID:UTC
BEGIN:STANDARD
TZOFFSETFROM:+0000
TZOFFSETTO:+0000
TZNAME:UTC
DTSTART:20170101T000000
END:STANDARD
END:VTIMEZONE
BEGIN:VEVENT
DTSTART;TZID=UTC:20181216T080000
DTEND;TZID=UTC:20181216T170000
DTSTAMP:20260424T213331
CREATED:20240112T082927Z
LAST-MODIFIED:20240112T082927Z
UID:243-1544947200-1544979600@hubeiassociation-sca.org
SUMMARY:美國南加州湖北同鄉會2018年第四次理事會召開
DESCRIPTION:美國南加州湖北同鄉會第四次理事會2018年12月16日下午2点在Holiday inn (9920 Valley Blvd\,EI Monte\,CA 71731)召開。 \n出席人员：趙林，李鐵生，王沅生，刘岷高，龔梅林，吴淑意，李穎博，方梅，Cindy，馬宇平，李琳，計雯麗，張權，王智，杨國斌，李燕伯，李紅，欧阳麥克，王檑，黃毅。 \n會議由王沅生理事長主持。首先是李鐵生監事長發言，對於湖北同鄉會章程最後的修改確立提出建議，目前除了二位副監事長王智和計雯麗幫助修訂章程，新增加秘書長張權幫助中文版最後的修訂。 \n會議中趙林會長總結2018年工作報告和2019新年工作規劃。湖北同鄉會秉承“樹形象，上臺階”的理念，加強內引外聯，進行了卓有成效的工作。湖北同鄉會今年成功舉辦春節晚會；周年慶典；端午節活動；中秋節活動；積極參加民選官員的競選活動，湖北同鄉會與各個社團堅持聯誼互動，互相支持保持友好互助關係。 \n由湖北同鄉會出資幫助劉醫師出版了中英文保健書籍《戰勝中風手冊》。湖北同鄉會也出資捐款給美國德州水災。理事們上下一心積極投入湖北同鄉會各項工作，趙林會長也深表感謝。 \n2019年即將到來之際，湖北同鄉會首要工作是組織由湖北僑聯組織的藝術家將首次來南加州的春晚表演（去年由於各種原因沒有達成春晚表演）春晚初步命名“親情中華，極目楚天”。會議上趙林也對春晚活動做了工作分配和安排。 \n會議上財務長李琳也報告了財務狀況。吳淑意理事長提議新增補三位理事：王檑，黃毅，李孟琳。理事會全票通過三位新理事的加入。吳淑意也對未來行政結構提出建議給各位理事討論參考。 \n湖北同鄉會劉珉高顧問也在會議中發言。 \n新增補理事黃毅（右）自我介紹發言。 \n趙林會長給新增理事王檑（右）頒發榮譽證書。 \n趙林會長給新增理事黃毅（中）頒發榮譽證書。 \n趙林會長給新增理事李孟琳（右）頒發榮譽證書。 \n2019年美國南加州湖北同鄉會将更加努力服務社區，服務湖北鄉親，多組織有意義的活動。讓我們大家團結協力做好2019年湖北同鄉會工作！
URL:https://hubeiassociation-sca.org/event/%e7%be%8e%e5%9c%8b%e5%8d%97%e5%8a%a0%e5%b7%9e%e6%b9%96%e5%8c%97%e5%90%8c%e9%84%89%e6%9c%832018%e5%b9%b4%e7%ac%ac%e5%9b%9b%e6%ac%a1%e7%90%86%e4%ba%8b%e6%9c%83%e5%8f%ac%e9%96%8b/
CATEGORIES:活动
ATTACH;FMTTYPE=image/jpeg:https://hubeiassociation-sca.org/wp-content/uploads/2024/01/1-17.jpg
END:VEVENT
END:VCALENDAR